BEGIN:VCALENDAR
VERSION:2.0
PRODID:-//Libu - ECPv6.15.17.1//NONSGML v1.0//EN
CALSCALE:GREGORIAN
METHOD:PUBLISH
X-WR-CALNAME:Libu
X-ORIGINAL-URL:https://libu.es
X-WR-CALDESC:Eventos para Libu
REFRESH-INTERVAL;VALUE=DURATION:PT1H
X-Robots-Tag:noindex
X-PUBLISHED-TTL:PT1H
BEGIN:VTIMEZONE
TZID:UTC
BEGIN:STANDARD
TZOFFSETFROM:+0000
TZOFFSETTO:+0000
TZNAME:UTC
DTSTART:20250101T000000
END:STANDARD
END:VTIMEZONE
BEGIN:VEVENT
DTSTART;TZID=UTC:20260423T113000
DTEND;TZID=UTC:20260423T133000
DTSTAMP:20260423T013133
CREATED:20260420T213428Z
LAST-MODIFIED:20260420T213816Z
UID:5606-1776943800-1776951000@libu.es
SUMMARY:Día del Libro. Forma parte de esta celebración de la lectura.
DESCRIPTION:Para celebrar este día ven con ese texto que te encanta\, con ese relato que leíste una vez y no dejas de releerlo\, con ese libro fundamental en tu cabecera\, con el libro que recomendarías a tu gente.  \nVen y forma parte de esta celebración de la lectura.\nNos juntaremos amantes de la literatura para celebrar en comunidad los libros y la literatura.\nNo hace falta apuntarse\, solo acércate en algún momento y súmate. El taller Altavoces de Libu\, Gaude de Leioa ya han confirmado su participación.\nAdemás ya sabes que ese día\, con la compra de un libro\, recibirás un regalo sorpresa. \n 
URL:https://libu.es/actividad/dia-del-libro-forma-parte-de-esta-celebracion-de-la-lectura/
LOCATION:Libu\, Carnicería Vieja\, nº 7\, Bilbao
ATTACH;FMTTYPE=image/png:https://libu.es/wp-content/uploads/2026/04/SLIDER-LIBU-01.png
END:VEVENT
END:VCALENDAR