BEGIN:VCALENDAR
VERSION:2.0
PRODID:-//Libu - ECPv6.15.17.1//NONSGML v1.0//EN
CALSCALE:GREGORIAN
METHOD:PUBLISH
X-WR-CALNAME:Libu
X-ORIGINAL-URL:https://libu.es
X-WR-CALDESC:Eventos para Libu
REFRESH-INTERVAL;VALUE=DURATION:PT1H
X-Robots-Tag:noindex
X-PUBLISHED-TTL:PT1H
BEGIN:VTIMEZONE
TZID:UTC
BEGIN:STANDARD
TZOFFSETFROM:+0000
TZOFFSETTO:+0000
TZNAME:UTC
DTSTART:20250101T000000
END:STANDARD
END:VTIMEZONE
BEGIN:VEVENT
DTSTART;TZID=UTC:20260228T110000
DTEND;TZID=UTC:20260228T133000
DTSTAMP:20260421T080345
CREATED:20260210T153146Z
LAST-MODIFIED:20260210T153522Z
UID:5519-1772276400-1772285400@libu.es
SUMMARY:Taller de lectura & escritura\, Un cuento un encuent(R)o
DESCRIPTION:Cupo limitado. Reserva tu plaza. \nInformación y reservas en libulibreria@gmail.com \nEl precio incluye un vale de regalo de dos libros y material.
URL:https://libu.es/actividad/taller-de-lectura-escritura-2/
LOCATION:Libu\, Carnicería Vieja\, nº 7\, Bilbao
ATTACH;FMTTYPE=image/png:https://libu.es/wp-content/uploads/2026/02/CARTEL-UN-CUENTO-UN-ENCUENTrO-FEBRERO-2026-2.png
END:VEVENT
END:VCALENDAR